BEGIN:VCALENDAR
VERSION:2.0
PRODID:-//Melbourne Old School Cruisers - ECPv5.11.0//NONSGML v1.0//EN
CALSCALE:GREGORIAN
METHOD:PUBLISH
X-WR-CALNAME:Melbourne Old School Cruisers
X-ORIGINAL-URL:https://melbourneoldschoolcruisers.com.au
X-WR-CALDESC:Events for Melbourne Old School Cruisers
BEGIN:VTIMEZONE
TZID:Australia/Melbourne
BEGIN:STANDARD
TZOFFSETFROM:+1100
TZOFFSETTO:+1000
TZNAME:AEST
DTSTART:20190406T160000
END:STANDARD
BEGIN:DAYLIGHT
TZOFFSETFROM:+1000
TZOFFSETTO:+1100
TZNAME:AEDT
DTSTART:20191005T160000
END:DAYLIGHT
END:VTIMEZONE
BEGIN:VEVENT
DTSTART;VALUE=DATE:20190513
DTEND;VALUE=DATE:20190514
DTSTAMP:20260419T012245
CREATED:20190416T122728Z
LAST-MODIFIED:20190416T122841Z
UID:24366-1557705600-1557791999@melbourneoldschoolcruisers.com.au
SUMMARY:Testing Emails Event (Private Event)
DESCRIPTION:
URL:https://melbourneoldschoolcruisers.com.au/event/testing-emails-event-private-event/
LOCATION:Phillip Island\, 339-351 Beach Road\, Cowes\, VIC\, 3922\, Australia
CATEGORIES:Private Event
ORGANIZER;CN="Melbourne%20Old%20School%20Cruisers":MAILTO:wholesale888@live.com
END:VEVENT
END:VCALENDAR