BEGIN:VCALENDAR
VERSION:2.0
PRODID:-//Melbourne Old School Cruisers - ECPv5.11.0//NONSGML v1.0//EN
CALSCALE:GREGORIAN
METHOD:PUBLISH
X-WR-CALNAME:Melbourne Old School Cruisers
X-ORIGINAL-URL:https://melbourneoldschoolcruisers.com.au
X-WR-CALDESC:Events for Melbourne Old School Cruisers
BEGIN:VTIMEZONE
TZID:Australia/Melbourne
BEGIN:STANDARD
TZOFFSETFROM:+1100
TZOFFSETTO:+1000
TZNAME:AEST
DTSTART:20190406T160000
END:STANDARD
BEGIN:DAYLIGHT
TZOFFSETFROM:+1000
TZOFFSETTO:+1100
TZNAME:AEDT
DTSTART:20191005T160000
END:DAYLIGHT
END:VTIMEZONE
BEGIN:VEVENT
DTSTART;TZID=Australia/Melbourne:20190405T210000
DTEND;TZID=Australia/Melbourne:20190405T230000
DTSTAMP:20260425T021858
CREATED:20190325T012103Z
LAST-MODIFIED:20190326T085743Z
UID:18171-1554498000-1554505200@melbourneoldschoolcruisers.com.au
SUMMARY:Mentone Centre Cruise night
DESCRIPTION:Official yearly Children’s Hospital Appeal cruise night. No. 4 \nDue to popular demand\, we will be holding our April event at Repco Mentone directly opposite Bunnings. \nCars to be 25 years or older. \n$5 donation on entry\, all funds collected will be donated to the Children’s hospital good Friday appeal. Collection will once again be handled by the Thunderbird Owners Club of Australia\, Victorian chapter. No change will be given on the night and entry will be refused to those that don’t wish to make a donation. \n9 pm start till 11 pm. Drivers to be on their best behavior and no hooning will be tolerated. Highway patrol has been invited to the event.
URL:https://melbourneoldschoolcruisers.com.au/event/mentone-cruise-night/
LOCATION:Repco Mentone\, B2/27-29 Nepean Hwy\, Mentone\, VIC\, 3194\, Australia
ATTACH;FMTTYPE=image/jpeg:https://melbourneoldschoolcruisers.com.au/wp-content/uploads/2019/03/Sign1A.jpg
ORGANIZER;CN="Melbourne%20Old%20School%20Cruisers":MAILTO:wholesale888@live.com
GEO:-37.9761199;145.0688491
X-APPLE-STRUCTURED-LOCATION;VALUE=URI;X-ADDRESS=Repco Mentone B2/27-29 Nepean Hwy Mentone VIC 3194 Australia;X-APPLE-RADIUS=500;X-TITLE=B2/27-29 Nepean Hwy:geo:145.0688491,-37.9761199
END:VEVENT
END:VCALENDAR