BEGIN:VCALENDAR
VERSION:2.0
PRODID:-//Melbourne Old School Cruisers - ECPv5.0.1//NONSGML v1.0//EN
CALSCALE:GREGORIAN
METHOD:PUBLISH
X-WR-CALNAME:Melbourne Old School Cruisers
X-ORIGINAL-URL:https://melbourneoldschoolcruisers.com.au
X-WR-CALDESC:Events for Melbourne Old School Cruisers
BEGIN:VTIMEZONE
TZID:Australia/Melbourne
BEGIN:STANDARD
TZOFFSETFROM:+1100
TZOFFSETTO:+1000
TZNAME:AEST
DTSTART:20190406T160000
END:STANDARD
BEGIN:DAYLIGHT
TZOFFSETFROM:+1000
TZOFFSETTO:+1100
TZNAME:AEDT
DTSTART:20191005T160000
END:DAYLIGHT
END:VTIMEZONE
BEGIN:VEVENT
DTSTART;TZID=Australia/Melbourne:20190419T100000
DTEND;TZID=Australia/Melbourne:20190419T170000
DTSTAMP:20200301T225006
CREATED:20190325T013833Z
LAST-MODIFIED:20190325T082520Z
UID:18180-1555668000-1555693200@melbourneoldschoolcruisers.com.au
SUMMARY:Good Friday Appeal at Jeff's Shed
DESCRIPTION:For those who haven’t been to this event in the past\, get ready for something special. \nIs your car something that children would get excited to see? Why not bring it to Kid’s Big Day Out? \nWe have limited spots\, so be fast to secure your spot! \nIf you are interesting in attending\, please complete the RSVP option at the bottom of this page\, and email an image of your car to us. \n
URL:https://melbourneoldschoolcruisers.com.au/event/good-friday-appeal-at-jeffs-shed/
LOCATION:Jeff’s Shed ( Melbourne Convention & Exhibition Centre )\, 2 Clarendon St\, South Wharf\, VIC\, 3006\, Australia
ATTACH;FMTTYPE=image/png:https://melbourneoldschoolcruisers.com.au/wp-content/uploads/2019/03/Screen-Shot-2019-03-25-at-12.37.36-pm.png
ORGANIZER;CN="Melbourne%20Old%20School%20Cruisers":MAILTO:wholesale888@live.com
GEO:-37.8255454;144.9543796
X-APPLE-STRUCTURED-LOCATION;VALUE=URI;X-ADDRESS=Jeff’s Shed ( Melbourne Convention & Exhibition Centre ) 2 Clarendon St South Wharf VIC 3006 Australia;X-APPLE-RADIUS=500;X-TITLE=2 Clarendon St:geo:144.9543796,-37.8255454
END:VEVENT
END:VCALENDAR