BEGIN:VCALENDAR
VERSION:2.0
PRODID:-//Melbourne Old School Cruisers - ECPv5.0.1//NONSGML v1.0//EN
CALSCALE:GREGORIAN
METHOD:PUBLISH
X-WR-CALNAME:Melbourne Old School Cruisers
X-ORIGINAL-URL:https://melbourneoldschoolcruisers.com.au
X-WR-CALDESC:Events for Melbourne Old School Cruisers
BEGIN:VTIMEZONE
TZID:Australia/Melbourne
BEGIN:STANDARD
TZOFFSETFROM:+1100
TZOFFSETTO:+1000
TZNAME:AEST
DTSTART:20190406T160000
END:STANDARD
BEGIN:DAYLIGHT
TZOFFSETFROM:+1000
TZOFFSETTO:+1100
TZNAME:AEDT
DTSTART:20191005T160000
END:DAYLIGHT
END:VTIMEZONE
BEGIN:VEVENT
DTSTART;TZID=Australia/Melbourne:20190804T123000
DTEND;TZID=Australia/Melbourne:20190804T170000
DTSTAMP:20200301T225450
CREATED:20190711T094510Z
LAST-MODIFIED:20190715T235421Z
UID:33559-1564921800-1564938000@melbourneoldschoolcruisers.com.au
SUMMARY:Engineers information day.
DESCRIPTION:Engineering\, be informed. \nWe have organised our clubs’ engineer to give a presentation on vehicle engineering. Not only do you get to listen to Alan discuss the latest issues and tips when it comes to getting your pride and joy engineered\, but you will also get to spend time with him and ask him as many questions as you like. \nThose that choose a Gold ticket will have the opportunity  to place  your car on the hoist\, so Alan can check it over\, to see if you’re on the right track. \nSilver inc. Food\, seminar\, question time \nGold inc. Food\, seminar\, question time\, vehicle inspection ( limited tickets ) \n
URL:https://melbourneoldschoolcruisers.com.au/event/engineers-information-day/
LOCATION:Melbourne Old School Cruisers Club House\, 57 Taunton Drive\, Cheltenham\, VIC\, 3192\, Australia
ATTACH;FMTTYPE=image/jpeg:https://melbourneoldschoolcruisers.com.au/wp-content/uploads/2019/07/IMG_9452-e1562836527891.jpg
ORGANIZER;CN="Melbourne%20Old%20School%20Cruisers":MAILTO:wholesale888@live.com
GEO:-37.9718062;145.0851333
X-APPLE-STRUCTURED-LOCATION;VALUE=URI;X-ADDRESS=Melbourne Old School Cruisers Club House 57 Taunton Drive Cheltenham VIC 3192 Australia;X-APPLE-RADIUS=500;X-TITLE=57 Taunton Drive:geo:145.0851333,-37.9718062
END:VEVENT
END:VCALENDAR