BEGIN:VCALENDAR
VERSION:2.0
PRODID:-//Melbourne Old School Cruisers - ECPv5.0.1//NONSGML v1.0//EN
CALSCALE:GREGORIAN
METHOD:PUBLISH
X-WR-CALNAME:Melbourne Old School Cruisers
X-ORIGINAL-URL:https://melbourneoldschoolcruisers.com.au
X-WR-CALDESC:Events for Melbourne Old School Cruisers
BEGIN:VTIMEZONE
TZID:Australia/Melbourne
BEGIN:STANDARD
TZOFFSETFROM:+1100
TZOFFSETTO:+1000
TZNAME:AEST
DTSTART:20190406T160000
END:STANDARD
BEGIN:DAYLIGHT
TZOFFSETFROM:+1000
TZOFFSETTO:+1100
TZNAME:AEDT
DTSTART:20191005T160000
END:DAYLIGHT
END:VTIMEZONE
BEGIN:VEVENT
DTSTART;TZID=Australia/Melbourne:20191026T170000
DTEND;TZID=Australia/Melbourne:20191026T220000
DTSTAMP:20200301T225539
CREATED:20190916T121646Z
LAST-MODIFIED:20190920T205823Z
UID:43573-1572109200-1572127200@melbourneoldschoolcruisers.com.au
SUMMARY:Cheeky Classics Car Show
DESCRIPTION:* * * * * * * * * * * * * *\nEVENT OVERVIEW\n* * * * * * * * * * * * * *\nCheeky Classics is a FREE event for car enthusiasts at The Cheeky Squire. Join us for a night of live music\, classic cars featuring Melbourne Old School Cruisers\, great food and ‘cheeky brews’. \nSaturday 26 October 2019\, 5pm – 10pm \n* * * * * * * *\nLOCATION\n* * * * * * * *\nThe Cheeky Squire – 510 Nepean Highway\, Frankston. \n* * * * * * * * * * * *\nEVENT DETAILS\n* * * * * * * * * * * *\nMelbourne Old School Cruisers\nFood trucks\nJames Squire ‘Cheeky Brews’\nLive music\nFamily friendly\nSeating and under cover areas to relax \n* * * * * * * * * * * * * * * * * * * * *\nSHOWING YOUR CLASSIC CAR\n* * * * * * * * * * * * * * * * * * * * *\nIf you wish to display your classic car\, apply for a spot by registering for a free ticket.\nthere only 80 tickets\, so be quick.  \n* * * * * * *\nPARKING\n* * * * * * *\nThere is ample parking at The Cheeky Squire as well as street parking on Davey Street\, for those that don’t make it into the car display.  \n
URL:https://melbourneoldschoolcruisers.com.au/event/cheeky-classics-car-show/
LOCATION:The Cheeky Squire\, 510 Nepean Highway\, Frankston\, Victoria\, 3930\, Australia
ATTACH;FMTTYPE=image/jpeg:https://melbourneoldschoolcruisers.com.au/wp-content/uploads/2019/09/IMG_0804-e1568635363887.jpg
ORGANIZER;CN="Melbourne%20Old%20School%20Cruisers":MAILTO:wholesale888@live.com
END:VEVENT
END:VCALENDAR