BEGIN:VCALENDAR
VERSION:2.0
PRODID:-//Melbourne Old School Cruisers - ECPv5.0.1//NONSGML v1.0//EN
CALSCALE:GREGORIAN
METHOD:PUBLISH
X-WR-CALNAME:Melbourne Old School Cruisers
X-ORIGINAL-URL:https://melbourneoldschoolcruisers.com.au
X-WR-CALDESC:Events for Melbourne Old School Cruisers
BEGIN:VTIMEZONE
TZID:Australia/Melbourne
BEGIN:STANDARD
TZOFFSETFROM:+1100
TZOFFSETTO:+1000
TZNAME:AEST
DTSTART:20190406T160000
END:STANDARD
BEGIN:DAYLIGHT
TZOFFSETFROM:+1000
TZOFFSETTO:+1100
TZNAME:AEDT
DTSTART:20191005T160000
END:DAYLIGHT
END:VTIMEZONE
BEGIN:VEVENT
DTSTART;TZID=Australia/Melbourne:20190425T043000
DTEND;TZID=Australia/Melbourne:20190425T090000
DTSTAMP:20200301T225241
CREATED:20190408T131157Z
LAST-MODIFIED:20190408T131157Z
UID:22842-1556166600-1556182800@melbourneoldschoolcruisers.com.au
SUMMARY:Anzac Day Ride
DESCRIPTION:Meeting at 4.30am at Old School SMC & MOSC clubhouse\, with full tanks. Stands up at 4.45am sharp & riding to the Shrine of Remembrance for 6am Dawn Service. To be followed by another ride to the Mentone RSL for breakfast. \nClub meeting point:57 Taunton Drive Cheltenham 3192 \nIf you are not a confident rider\, please let us know and we will allocate a OS member to ride with you. \n
URL:https://melbourneoldschoolcruisers.com.au/event/anzac-day-ride/
LOCATION:Melbourne Old School Cruisers Club House\, 57 Taunton Drive\, Cheltenham\, VIC\, 3192\, Australia
ATTACH;FMTTYPE=image/jpeg:https://melbourneoldschoolcruisers.com.au/wp-content/uploads/2019/04/53623367_2547668325260721_4683844260728930304_n.jpg
ORGANIZER;CN="Melbourne%20Old%20School%20Cruisers":MAILTO:wholesale888@live.com
GEO:-37.9718062;145.0851333
X-APPLE-STRUCTURED-LOCATION;VALUE=URI;X-ADDRESS=Melbourne Old School Cruisers Club House 57 Taunton Drive Cheltenham VIC 3192 Australia;X-APPLE-RADIUS=500;X-TITLE=57 Taunton Drive:geo:145.0851333,-37.9718062
END:VEVENT
END:VCALENDAR